BEGIN:VCALENDAR
VERSION:2.0
PRODID:-//Bürgerenergie Kaiserstuhl eG - BEKA - ECPv6.15.20//NONSGML v1.0//EN
CALSCALE:GREGORIAN
METHOD:PUBLISH
X-ORIGINAL-URL:https://be-kaiserstuhl.de
X-WR-CALDESC:Veranstaltungen für Bürgerenergie Kaiserstuhl eG - BEKA
REFRESH-INTERVAL;VALUE=DURATION:PT1H
X-Robots-Tag:noindex
X-PUBLISHED-TTL:PT1H
BEGIN:VTIMEZONE
TZID:Europe/Berlin
BEGIN:DAYLIGHT
TZOFFSETFROM:+0100
TZOFFSETTO:+0200
TZNAME:CEST
DTSTART:20250330T010000
END:DAYLIGHT
BEGIN:STANDARD
TZOFFSETFROM:+0200
TZOFFSETTO:+0100
TZNAME:CET
DTSTART:20251026T010000
END:STANDARD
BEGIN:DAYLIGHT
TZOFFSETFROM:+0100
TZOFFSETTO:+0200
TZNAME:CEST
DTSTART:20260329T010000
END:DAYLIGHT
BEGIN:STANDARD
TZOFFSETFROM:+0200
TZOFFSETTO:+0100
TZNAME:CET
DTSTART:20261025T010000
END:STANDARD
BEGIN:DAYLIGHT
TZOFFSETFROM:+0100
TZOFFSETTO:+0200
TZNAME:CEST
DTSTART:20270328T010000
END:DAYLIGHT
BEGIN:STANDARD
TZOFFSETFROM:+0200
TZOFFSETTO:+0100
TZNAME:CET
DTSTART:20271031T010000
END:STANDARD
END:VTIMEZONE
BEGIN:VEVENT
DTSTART;TZID=Europe/Berlin:20260430T193000
DTEND;TZID=Europe/Berlin:20260430T220000
DTSTAMP:20260423T201420
CREATED:20251118T074648Z
LAST-MODIFIED:20260310T063040Z
UID:10000031-1777577400-1777586400@be-kaiserstuhl.de
SUMMARY:Offener Stammtisch in Eichstetten
DESCRIPTION:Ganz ungezwungen zusammensitzen\, a Gläsle trinken und einfach schwätze – beim AO-Stammtisch steht das Miteinander im Vordergrund. Ohne feste Tagesordnung\, dafür mit guter Laune\, spannenden Gesprächen und Platz für alles\, was uns bewegt. Komm vorbei und mach’s dir mit uns gemütlich!
URL:https://be-kaiserstuhl.de/event/stammtisch-der-ao-eichstetten-6/
LOCATION:Gasthaus Rössle Post\, Eichstetten\, Hauptstraße 37\, Eichstetten am Kaiserstuhl\, 79356\, Germany
CATEGORIES:Ortsgruppentreffen
END:VEVENT
BEGIN:VEVENT
DTSTART;TZID=Europe/Berlin:20260528T193000
DTEND;TZID=Europe/Berlin:20260528T220000
DTSTAMP:20260423T201420
CREATED:20251118T074707Z
LAST-MODIFIED:20260310T062926Z
UID:10000032-1779996600-1780005600@be-kaiserstuhl.de
SUMMARY:Offener Stammtisch in Eichstetten
DESCRIPTION:Ganz ungezwungen zusammensitzen\, a Gläsle trinken und einfach schwätze – beim AO-Stammtisch steht das Miteinander im Vordergrund. Ohne feste Tagesordnung\, dafür mit guter Laune\, spannenden Gesprächen und Platz für alles\, was uns bewegt. Komm vorbei und mach’s dir mit uns gemütlich!
URL:https://be-kaiserstuhl.de/event/stammtisch-der-ao-eichstetten-7/
LOCATION:Gasthaus Rössle Post\, Eichstetten\, Hauptstraße 37\, Eichstetten am Kaiserstuhl\, 79356\, Germany
CATEGORIES:Ortsgruppentreffen
END:VEVENT
END:VCALENDAR