BEGIN:VCALENDAR
VERSION:2.0
PRODID:-//Bürgerenergie Kaiserstuhl eG - BEKA - ECPv6.15.20//NONSGML v1.0//EN
CALSCALE:GREGORIAN
METHOD:PUBLISH
X-ORIGINAL-URL:https://be-kaiserstuhl.de
X-WR-CALDESC:Veranstaltungen für Bürgerenergie Kaiserstuhl eG - BEKA
REFRESH-INTERVAL;VALUE=DURATION:PT1H
X-Robots-Tag:noindex
X-PUBLISHED-TTL:PT1H
BEGIN:VTIMEZONE
TZID:Europe/Berlin
BEGIN:DAYLIGHT
TZOFFSETFROM:+0100
TZOFFSETTO:+0200
TZNAME:CEST
DTSTART:20240331T010000
END:DAYLIGHT
BEGIN:STANDARD
TZOFFSETFROM:+0200
TZOFFSETTO:+0100
TZNAME:CET
DTSTART:20241027T010000
END:STANDARD
BEGIN:DAYLIGHT
TZOFFSETFROM:+0100
TZOFFSETTO:+0200
TZNAME:CEST
DTSTART:20250330T010000
END:DAYLIGHT
BEGIN:STANDARD
TZOFFSETFROM:+0200
TZOFFSETTO:+0100
TZNAME:CET
DTSTART:20251026T010000
END:STANDARD
BEGIN:DAYLIGHT
TZOFFSETFROM:+0100
TZOFFSETTO:+0200
TZNAME:CEST
DTSTART:20260329T010000
END:DAYLIGHT
BEGIN:STANDARD
TZOFFSETFROM:+0200
TZOFFSETTO:+0100
TZNAME:CET
DTSTART:20261025T010000
END:STANDARD
END:VTIMEZONE
BEGIN:VEVENT
DTSTART;TZID=Europe/Berlin:20251107T173000
DTEND;TZID=Europe/Berlin:20251107T193000
DTSTAMP:20260424T091449
CREATED:20251028T152026Z
LAST-MODIFIED:20251108T141103Z
UID:10000023-1762536600-1762543800@be-kaiserstuhl.de
SUMMARY:Klimaschutz  in Baden--Württemberg und die Rolle ehrenamtlicher Klimainitiativen in den Kommunen
DESCRIPTION:Der Landtagsabgeordnete Rüdiger Tonojan (Grüne) lädt zu einem öffentlichen Austausch über die Bedeutung ehrenamtlicher Klimaschutzinitiativen in Baden-Württemberg ein.Als Gast spricht Prof. Dirk Schindler\, Umweltmeteorologe an der Universität Freiburg und stellvertretender Vorsitzender des baden-württembergischen Klimasachverständigenrats. \nIm Rahmen eines „Markts der Möglichkeiten“ stellt sich die BEKA zusammen mit anderen lokalen Initiativen aus dem Landkreis Emmendingen vor und kommen mit Interessierten ins Gespräch.
URL:https://be-kaiserstuhl.de/event/klimaschutz-in-baden-wuerttemberg-und-die-rolle-ehrenamtlicher-klimainitiativen-in-den-kommunen/
LOCATION:Altes Rathaus Emmendingen
CATEGORIES:Vortrag
END:VEVENT
END:VCALENDAR