BEGIN:VCALENDAR
VERSION:2.0
PRODID:-//Bürgerenergie Kaiserstuhl eG - BEKA - ECPv6.15.20//NONSGML v1.0//EN
CALSCALE:GREGORIAN
METHOD:PUBLISH
X-ORIGINAL-URL:https://be-kaiserstuhl.de
X-WR-CALDESC:Veranstaltungen für Bürgerenergie Kaiserstuhl eG - BEKA
REFRESH-INTERVAL;VALUE=DURATION:PT1H
X-Robots-Tag:noindex
X-PUBLISHED-TTL:PT1H
BEGIN:VTIMEZONE
TZID:Europe/Berlin
BEGIN:DAYLIGHT
TZOFFSETFROM:+0100
TZOFFSETTO:+0200
TZNAME:CEST
DTSTART:20250330T010000
END:DAYLIGHT
BEGIN:STANDARD
TZOFFSETFROM:+0200
TZOFFSETTO:+0100
TZNAME:CET
DTSTART:20251026T010000
END:STANDARD
BEGIN:DAYLIGHT
TZOFFSETFROM:+0100
TZOFFSETTO:+0200
TZNAME:CEST
DTSTART:20260329T010000
END:DAYLIGHT
BEGIN:STANDARD
TZOFFSETFROM:+0200
TZOFFSETTO:+0100
TZNAME:CET
DTSTART:20261025T010000
END:STANDARD
BEGIN:DAYLIGHT
TZOFFSETFROM:+0100
TZOFFSETTO:+0200
TZNAME:CEST
DTSTART:20270328T010000
END:DAYLIGHT
BEGIN:STANDARD
TZOFFSETFROM:+0200
TZOFFSETTO:+0100
TZNAME:CET
DTSTART:20271031T010000
END:STANDARD
END:VTIMEZONE
BEGIN:VEVENT
DTSTART;TZID=Europe/Berlin:20260325T193000
DTEND;TZID=Europe/Berlin:20260325T203000
DTSTAMP:20260424T162419
CREATED:20260216T175351Z
LAST-MODIFIED:20260311T170358Z
UID:10000040-1774467000-1774470600@be-kaiserstuhl.de
SUMMARY:Vortrag zu kleinen PV-Dachanlagen in Bötzingen
DESCRIPTION:Hier wird das neueste Angebot der Bürgerenergie Kaiserstuhl eG (BEKA) vorgestellt. Armin Schmidt\, Leiter des neu gebildeten Kompetenzteams für kleine PV-Dachanlagen\, erläutert\, wie die Fachleute der Genossenschaft Hauseigentümer bei der Anschaffung von privaten PV-Kleinanlagen unterstützen will. \nIn einem eigens dafür gebildeten Kompetenzteam bietet die Genossenschaft an\, die technische Machbarkeit einer PV-Dachanlage zu prüfen und die Eigentümer auch bei der praktischen Umsetzung von Planung\, Ausschreibung und Finanzierung zu unterstützen. Die Interessierten entscheiden selbst\, in welchem Umfang sie das Angebot in Anspruch nehmen wollen. \nArmin Schmidt erklärt in seinem Vortrag alle Verfahrensstufen ausführlich und steht gerne für Rückfragen zur Verfügung. \nDer Vortrag findet im Rahmen der Umweltwoche des Vereins „Gemeinsam für Morgen“ statt.
URL:https://be-kaiserstuhl.de/event/vortrag-zu-kleinen-pv-dachanlagen-in-boetzingen/
LOCATION:Bötzingen\, Begegnungsraum „Mittendrin“\, Hauptstr. 20\, Bötzingen
CATEGORIES:Vortrag
END:VEVENT
BEGIN:VEVENT
DTSTART;TZID=Europe/Berlin:20260223T193000
DTEND;TZID=Europe/Berlin:20260223T213000
DTSTAMP:20260424T162419
CREATED:20260130T112458Z
LAST-MODIFIED:20260206T094212Z
UID:10000039-1771875000-1771882200@be-kaiserstuhl.de
SUMMARY:Agri- und Viti-PV - was steckt dahinter?
DESCRIPTION:Referent Bernd Schmidt \nÜber diese Form der erneuerbaren Energie wird viel gesprochen – doch wie sieht sie in der Praxis aus? Wo eignet sie sich besonders gut? Und welchen konkreten Nutzen bringt sie? \nBernd Schmidt\, technischer Vorstand der Bürgerenergiegenossenschaft Kaiserstuhl (BEKA)\, stellt verschiedene Konzepte für Agri- und Viti-PV-Anlagen vor. Er erläutert die Voraussetzungen für die Errichtung solcher Anlagen und deren Einsatzmöglichkeiten nach dem heutigen Stand der Technik. Gleichzeitig gibt er einen Ausblick auf sich abzeichnende künftige Entwicklungen. Dabei geht er auch auf Gegebenheiten und Flächenpotenziale in Bötzingen ein. \nDer Eintritt ist frei. Im Anschluss gibt es Gelegenheit für Fragen\, Diskussion und einen kleinen Umtrunk.
URL:https://be-kaiserstuhl.de/event/agri-und-viti-pv-was-steckt-dahinter-2/
LOCATION:Bötzingen\, Begegnungsraum „Mittendrin“\, Hauptstr. 20\, Bötzingen
CATEGORIES:Vortrag
END:VEVENT
END:VCALENDAR