BEGIN:VCALENDAR
VERSION:2.0
PRODID:-//Bürgerenergie Kaiserstuhl eG - BEKA - ECPv6.15.20//NONSGML v1.0//EN
CALSCALE:GREGORIAN
METHOD:PUBLISH
X-WR-CALNAME:Bürgerenergie Kaiserstuhl eG - BEKA
X-ORIGINAL-URL:https://be-kaiserstuhl.de
X-WR-CALDESC:Veranstaltungen für Bürgerenergie Kaiserstuhl eG - BEKA
REFRESH-INTERVAL;VALUE=DURATION:PT1H
X-Robots-Tag:noindex
X-PUBLISHED-TTL:PT1H
BEGIN:VTIMEZONE
TZID:Europe/Berlin
BEGIN:DAYLIGHT
TZOFFSETFROM:+0100
TZOFFSETTO:+0200
TZNAME:CEST
DTSTART:20240331T010000
END:DAYLIGHT
BEGIN:STANDARD
TZOFFSETFROM:+0200
TZOFFSETTO:+0100
TZNAME:CET
DTSTART:20241027T010000
END:STANDARD
BEGIN:DAYLIGHT
TZOFFSETFROM:+0100
TZOFFSETTO:+0200
TZNAME:CEST
DTSTART:20250330T010000
END:DAYLIGHT
BEGIN:STANDARD
TZOFFSETFROM:+0200
TZOFFSETTO:+0100
TZNAME:CET
DTSTART:20251026T010000
END:STANDARD
BEGIN:DAYLIGHT
TZOFFSETFROM:+0100
TZOFFSETTO:+0200
TZNAME:CEST
DTSTART:20260329T010000
END:DAYLIGHT
BEGIN:STANDARD
TZOFFSETFROM:+0200
TZOFFSETTO:+0100
TZNAME:CET
DTSTART:20261025T010000
END:STANDARD
BEGIN:DAYLIGHT
TZOFFSETFROM:+0100
TZOFFSETTO:+0200
TZNAME:CEST
DTSTART:20270328T010000
END:DAYLIGHT
BEGIN:STANDARD
TZOFFSETFROM:+0200
TZOFFSETTO:+0100
TZNAME:CET
DTSTART:20271031T010000
END:STANDARD
END:VTIMEZONE
BEGIN:VEVENT
DTSTART;TZID=Europe/Berlin:20260226T193000
DTEND;TZID=Europe/Berlin:20260226T203000
DTSTAMP:20260424T051439
CREATED:20251212T095625Z
LAST-MODIFIED:20260108T075424Z
UID:10000035-1772134200-1772137800@be-kaiserstuhl.de
SUMMARY:Treffen der AO Endingen
DESCRIPTION:Die AO Endingen lädt alle Mitglieder herzlich zum nächsten Treffen ein. Im Rahmen der Zusammenkunft werden aktuelle Themen\, anstehende Veranstaltungen sowie organisatorische Belange besprochen. Ziel ist es\, einen konstruktiven Austausch zu fördern\, gemeinsame Vorhaben zu koordinieren und das Genossenschaftsleben aktiv mitzugestalten.
URL:https://be-kaiserstuhl.de/event/treffen-der-ao-endingen-4/
LOCATION:Kornhalle Endingen\, Marktplatz 6\, Endingen\, 79346
CATEGORIES:Ortsgruppentreffen
END:VEVENT
BEGIN:VEVENT
DTSTART;TZID=Europe/Berlin:20251009T193000
DTEND;TZID=Europe/Berlin:20251009T203000
DTSTAMP:20260424T051439
CREATED:20250627T140455Z
LAST-MODIFIED:20251024T080305Z
UID:10000011-1760038200-1760041800@be-kaiserstuhl.de
SUMMARY:Treffen der AO Endingen
DESCRIPTION:Die AO Endingen lädt alle Mitglieder herzlich zum nächsten Treffen ein. Im Rahmen der Zusammenkunft werden aktuelle Themen\, anstehende Veranstaltungen sowie organisatorische Belange besprochen. Ziel ist es\, einen konstruktiven Austausch zu fördern\, gemeinsame Vorhaben zu koordinieren und das Genossenschaftsleben aktiv mitzugestalten.
URL:https://be-kaiserstuhl.de/event/treffen-der-ao-endingen-2/
LOCATION:Kornhalle Endingen\, Marktplatz 6\, Endingen\, 79346
CATEGORIES:Ortsgruppentreffen
END:VEVENT
END:VCALENDAR