BEGIN:VCALENDAR
VERSION:2.0
PRODID:-//Bürgerenergie Kaiserstuhl eG - BEKA - ECPv6.15.20//NONSGML v1.0//EN
CALSCALE:GREGORIAN
METHOD:PUBLISH
X-ORIGINAL-URL:https://be-kaiserstuhl.de
X-WR-CALDESC:Veranstaltungen für Bürgerenergie Kaiserstuhl eG - BEKA
REFRESH-INTERVAL;VALUE=DURATION:PT1H
X-Robots-Tag:noindex
X-PUBLISHED-TTL:PT1H
BEGIN:VTIMEZONE
TZID:Europe/Berlin
BEGIN:DAYLIGHT
TZOFFSETFROM:+0100
TZOFFSETTO:+0200
TZNAME:CEST
DTSTART:20240331T010000
END:DAYLIGHT
BEGIN:STANDARD
TZOFFSETFROM:+0200
TZOFFSETTO:+0100
TZNAME:CET
DTSTART:20241027T010000
END:STANDARD
BEGIN:DAYLIGHT
TZOFFSETFROM:+0100
TZOFFSETTO:+0200
TZNAME:CEST
DTSTART:20250330T010000
END:DAYLIGHT
BEGIN:STANDARD
TZOFFSETFROM:+0200
TZOFFSETTO:+0100
TZNAME:CET
DTSTART:20251026T010000
END:STANDARD
BEGIN:DAYLIGHT
TZOFFSETFROM:+0100
TZOFFSETTO:+0200
TZNAME:CEST
DTSTART:20260329T010000
END:DAYLIGHT
BEGIN:STANDARD
TZOFFSETFROM:+0200
TZOFFSETTO:+0100
TZNAME:CET
DTSTART:20261025T010000
END:STANDARD
END:VTIMEZONE
BEGIN:VEVENT
DTSTART;TZID=Europe/Berlin:20250808T160000
DTEND;TZID=Europe/Berlin:20250808T180000
DTSTAMP:20260425T023137
CREATED:20250725T125833Z
LAST-MODIFIED:20251024T080526Z
UID:10000014-1754668800-1754676000@be-kaiserstuhl.de
SUMMARY:Infostand der AO Riegel am Müllersee
DESCRIPTION:Die Aktive Ortsgruppe Riegel lädt ein zur Baggersee-Aktion am Müllersee! \nWas erwartet Euch?Wir informieren über die Projekte der Bürgerenergie Kaiserstuhl eG (BEKA)\, beantworten Fragen zur Energiewende am Kaiserstuhl und zur Beteiligung als Mitglied oder in einer Ortsgruppe. Kommt vorbei – zum Austausch\, Mitgestalten oder einfach auf ein Gespräch in entspannter Atmosphäre! \nWir freuen uns auf Euch – direkt am See!
URL:https://be-kaiserstuhl.de/event/infostand-der-ao-riegel-am-muellersee/
LOCATION:Müllersee Riegel\, Müllersee 1\, Riegel\, 79359
CATEGORIES:Aktionen & Messen
END:VEVENT
BEGIN:VEVENT
DTSTART;TZID=Europe/Berlin:20250804T160000
DTEND;TZID=Europe/Berlin:20250804T180000
DTSTAMP:20260425T023137
CREATED:20250725T125718Z
LAST-MODIFIED:20251108T141204Z
UID:10000013-1754323200-1754330400@be-kaiserstuhl.de
SUMMARY:Infostand der AO Riegel am Müllersee
DESCRIPTION:Die Aktive Ortsgruppe Riegel lädt ein zur Baggersee-Aktion am Müllersee! \nWas erwartet Euch?Wir informieren über die Projekte der Bürgerenergie Kaiserstuhl eG (BEKA)\, beantworten Fragen zur Energiewende am Kaiserstuhl und zur Beteiligung als Mitglied oder in einer Ortsgruppe. Kommt vorbei – zum Austausch\, Mitgestalten oder einfach auf ein Gespräch in entspannter Atmosphäre! \nWir freuen uns auf Euch – direkt am See!
URL:https://be-kaiserstuhl.de/event/2953/
LOCATION:Müllersee Riegel\, Müllersee 1\, Riegel\, 79359
CATEGORIES:Aktionen & Messen
END:VEVENT
END:VCALENDAR