BEGIN:VCALENDAR
VERSION:2.0
PRODID:-//Bürgerenergie Kaiserstuhl eG - BEKA - ECPv6.15.20//NONSGML v1.0//EN
CALSCALE:GREGORIAN
METHOD:PUBLISH
X-WR-CALNAME:Bürgerenergie Kaiserstuhl eG - BEKA
X-ORIGINAL-URL:https://be-kaiserstuhl.de
X-WR-CALDESC:Veranstaltungen für Bürgerenergie Kaiserstuhl eG - BEKA
REFRESH-INTERVAL;VALUE=DURATION:PT1H
X-Robots-Tag:noindex
X-PUBLISHED-TTL:PT1H
BEGIN:VTIMEZONE
TZID:Europe/Berlin
BEGIN:DAYLIGHT
TZOFFSETFROM:+0100
TZOFFSETTO:+0200
TZNAME:CEST
DTSTART:20240331T010000
END:DAYLIGHT
BEGIN:STANDARD
TZOFFSETFROM:+0200
TZOFFSETTO:+0100
TZNAME:CET
DTSTART:20241027T010000
END:STANDARD
BEGIN:DAYLIGHT
TZOFFSETFROM:+0100
TZOFFSETTO:+0200
TZNAME:CEST
DTSTART:20250330T010000
END:DAYLIGHT
BEGIN:STANDARD
TZOFFSETFROM:+0200
TZOFFSETTO:+0100
TZNAME:CET
DTSTART:20251026T010000
END:STANDARD
BEGIN:DAYLIGHT
TZOFFSETFROM:+0100
TZOFFSETTO:+0200
TZNAME:CEST
DTSTART:20260329T010000
END:DAYLIGHT
BEGIN:STANDARD
TZOFFSETFROM:+0200
TZOFFSETTO:+0100
TZNAME:CET
DTSTART:20261025T010000
END:STANDARD
END:VTIMEZONE
BEGIN:VEVENT
DTSTART;TZID=Europe/Berlin:20250802T100000
DTEND;TZID=Europe/Berlin:20250802T170000
DTSTAMP:20260425T023921
CREATED:20250725T124730Z
LAST-MODIFIED:20251108T141211Z
UID:10000012-1754128800-1754154000@be-kaiserstuhl.de
SUMMARY:Aktionstag Miteinander - Füreinander
DESCRIPTION:Einladung zum Aktionstag „Miteinander – Füreinander“ am 2. August 2025\nNeue Bewegung fürs Ehrenamt\nGemeinsam engagiert – für unsere Region! \nUnter dem Motto „Miteinander – Füreinander – Aktionstag Engagement & Ehrenamt“ laden der Trägerverein Zwergenstüble e. V. und der Verein Morgenland herzlich zur Teilnahme am Aktionstag in Endingen ein: \n📅 Samstag\, 02. August 2025📍 Turnhalle Endingen \nEin Tag voller Inspiration\, Austausch und Mitmach-Angebote – für Groß und Klein: \n\n\n10:00–12:00 Uhr: Impulse zu Künstlicher Intelligenz in der Vereinsarbeit & Nachwuchsförderung \n\n\nab 12:00 Uhr: Gemeinsames Mittagessen \n\n\n14:00–17:00 Uhr: Kreatives & Mitmachprogramm mit Kinderschminken\, Kunstaktion\, Welpenstreicheln u. v. m. \n\n\nMit dabei: Thomas Preibisch vom Institut für Gute Laune – Kinder und Jugendliche können ihr eigenes Kunstabzeichen gestalten! \nAlle Vereine der Region sind herzlich eingeladen\, sich mit einem eigenen (gerne interaktiven) Stand zu präsentieren. \nDer Tag bietet Raum für Begegnung\, Ideen und neue Impulse – zeigen wir gemeinsam\, was unsere Vereinslandschaft alles kann! \nJetzt vormerken – wir freuen uns auf zahlreiche Gäste und Mitwirkende!
URL:https://be-kaiserstuhl.de/event/aktionstag-miteinander-fuereinander/
LOCATION:Turnhalle Endingen\, Bahlinger Weg 2\, Endingen\, 79346
CATEGORIES:Aktionen & Messen
END:VEVENT
END:VCALENDAR